BEGIN:VCALENDAR
VERSION:2.0
PRODID:-//hacksw/handcal//NONSGML v1.0//EN
BEGIN:VEVENT
SUMMARY:PLAYOFF 1/2 Finale U15 HCC VS Caen/Le havre
UID:ce662727-8c63-4c2b-abd1-68a5d5381974
DTSTART:20260424T160000Z
DTEND:20260424T180000Z
LOCATION:Patinoire HCC 2 Rue Jacques Daguerre 60200 compiegne
CATEGORIES:Sportif
STATUS:
URL;VALUE=URI:https://www.hockey-compiegne.com/evenements/2026/04/24/playoff-12-finale-u15-hcc-vs-caenle-havre-2443853
END:VEVENT
END:VCALENDAR
